BEGIN:VCALENDAR
VERSION:2.0
PRODID:DPCALENDAR
CALSCALE:GREGORIAN
X-WR-TIMEZONE:UTC
BEGIN:VEVENT
DTSTART;VALUE=DATE:20250316
DTEND;VALUE=DATE:20250317
UID:21561a7a1281350f3608d28f1f608c75
SUMMARY:„Mecseki kilátók, tavaszi virágok” Elmarad!
DTSTAMP:20250222T203510Z
DESCRIPTION:Változás!  Elmarad!\N„Mecseki kilátók, tavaszi virágok”Útvonal: Dömörkapu – Misina – Tubes-gerinc – Lapis – Sós-hegy – Remete-rét – Vörös-hegy – Éger-völgyTáv: 14 km, szintemelkedés: 350 mTalálkozás: 8.45-kor a Főpályaudvar autóbusz-végállomáson a 35-ös busz megállójában /4-es kocsiállás/ (az autóbusz 8.50-kor indul).Túravezető: Müller Nándor (tel.: 20/957-5775)
X-ALT-DESC;FMTTYPE=text/html:<p><span style="color: #ff0000; font-size: 12pt;">Változás!&nbsp; Elmarad!</span></p><p style="text-align: justify;"><span style="text-decoration: line-through;"><span style="color: #003300; text-decoration: line-through;"><strong>„Mecseki kilátók, tavaszi virágok”</strong></span></span><br /><span style="text-decoration: line-through;"><strong>Útvonal:</strong> Dömörkapu – Misina – Tubes-gerinc – Lapis – Sós-hegy – Remete-rét – Vörös-hegy – Éger-völgy</span><br /><span style="text-decoration: line-through;"><strong>Táv:</strong> 14 km, szintemelkedés: 350 m</span><br /><span style="text-decoration: line-through;"><strong>Találkozás:</strong> 8.45-kor a Főpályaudvar autóbusz-végállomáson a 35-ös busz megállójában /4-es kocsiállás/ (az autóbusz 8.50-kor indul).</span><br /><span style="text-decoration: line-through;"><strong>Túravezető:</strong> Müller Nándor (tel.: 20/957-5775)</span></p>
LOCATION:2 Dömörkapui út, 7635 Pécs, Baranya, Magyarország
GEO:46.09707170;18.22956370
X-ACCESS:1
X-MODIFIED:20250314T084211Z
X-HITS:1033
X-URL:
X-COLOR:
END:VEVENT
END:VCALENDAR