BEGIN:VCALENDAR
VERSION:2.0
PRODID:DPCALENDAR
CALSCALE:GREGORIAN
X-WR-TIMEZONE:UTC
BEGIN:VEVENT
DTSTART;VALUE=DATE:20230930
DTEND;VALUE=DATE:20231001
UID:48f79458911fdd78de841519c7e58207
SUMMARY:Rockenbauer Pál-emlékév
DTSTAMP:20230909T143026Z
DESCRIPTION:Változás az indulásban!\NRockenbauer Pál-emlékév, túra Sötétvölgytől Szekszárdig\NRendező: Dobogó Természetjáró és Hegymászó Egyesület és Tolna Megyei Természetbarát Szövetség\NÚtvonal: Sötétvölgyi-tó - Sötétvölgy, gyerektábor - Bati-kereszt kilátó - Szekszárd \NTáv: 13 km, szintemelkedés: 200 mTúravezető: Butschli Péter, tel.: +36-30/695-1271\NMinden érdeklődő természetjárót várunk a túrán.\NRészletek
X-ALT-DESC;FMTTYPE=text/html:<p><span style="color: #ff6600;"><strong>Változás az indulásban!</strong></span></p><p><span style="color: #008000;"><strong>Rockenbauer Pál-emlékév, túra Sötétvölgytől Szekszárdig</strong></span></p><p><strong>Rendező: Dobogó Természetjáró és Hegymászó Egyesület és Tolna Megyei Természetbarát Szövetség</strong></p><p><strong>Útvonal</strong>: Sötétvölgyi-tó - Sötétvölgy, gyerektábor - Bati-kereszt kilátó - Szekszárd&nbsp;</p><p><strong>Táv</strong>: 13 km, szintemelkedés: 200 m<br /><strong>Túravezető</strong>: Butschli Péter, tel.: +36-30/695-1271</p><p><strong>Minden érdeklődő természetjárót várunk a túrán.</strong></p><p><span style="color: #0000ff;"><strong><a href="https://www.facebook.com/events/594736409494183" target="_blank" rel="noopener noreferrer" style="color: #0000ff;"><span style="color: #0000ff;">Részletek</span></a></strong></span></p>
LOCATION:
GEO:0.00000000;0.00000000
X-ACCESS:1
X-MODIFIED:20230925T193139Z
X-HITS:552
X-URL:
X-COLOR:
END:VEVENT
END:VCALENDAR