BEGIN:VCALENDAR
VERSION:2.0
PRODID:DPCALENDAR
CALSCALE:GREGORIAN
X-WR-TIMEZONE:UTC
BEGIN:VEVENT
DTSTART;VALUE=DATE:20231014
DTEND;VALUE=DATE:20231015
UID:f4faf3abbbb2f8fd01749383dedc1eed
SUMMARY:„Aranyősz a Mesevers tanösvényen”
DTSTAMP:20221228T180403Z
DESCRIPTION:„Aranyősz a Mesevers tanösvényen”\NÚtvonal: Liptód rk. templom – Lókút – Kisnyárádi-kápolna – Babarci-kilátó – BabarcTáv: 15,5 km. Szintemelkedés: 100 mTalálkozás: 8.25 Liptódon (elérhető a pécsi távolsági autóbusz-állomás 2-es kocsiállásáról 7.15-kor Mohács felé induló autóbusszal.Túravezető: Markesz István /Vándormadár Természetjáró Baráti Kör/Telefon: +36/20/772-0330
X-ALT-DESC;FMTTYPE=text/html:<p><strong><span style="color: #003300;">„Aranyősz a Mesevers tanösvényen”</span></strong></p><p style="text-align: justify;"><strong>Útvonal</strong>: Liptód rk. templom – Lókút – Kisnyárádi-kápolna – Babarci-kilátó – Babarc<br /><strong>Táv</strong>: 15,5 km. Szintemelkedés: 100 m<br /><strong>Találkozás</strong>: 8.25 Liptódon (elérhető a pécsi távolsági autóbusz-állomás 2-es kocsiállásáról 7.15-kor Mohács felé induló autóbusszal.<br /><strong>Túravezető</strong>: Markesz István /Vándormadár Természetjáró Baráti Kör/<br /><strong>Telefon</strong>: +36/20/772-0330</p>
LOCATION:Liptód, Baranya, Magyarország
GEO:46.04420300;18.51537090
X-ACCESS:1
X-MODIFIED:20230928T194838Z
X-HITS:708
X-URL:
X-COLOR:
END:VEVENT
END:VCALENDAR