BEGIN:VCALENDAR
VERSION:2.0
PRODID:DPCALENDAR
CALSCALE:GREGORIAN
X-WR-TIMEZONE:UTC
BEGIN:VEVENT
DTSTART;VALUE=DATE:20200725
DTEND;VALUE=DATE:20200726
UID:a03c0df6aff5851cfc9eaf8e6cb20c59
SUMMARY:"Távol a világ zajától”
DTSTAMP:20191124T162755Z
DESCRIPTION:„Távol a világ zajától” (közös túra a Pécs Városi Természetbarát Bizottsággal)Útvonal: Dinnyeberki - Gyűrűfű - Korpád - BükkösdTáv: 15 km - szintemelkedés 220 m.Találkozás: a pécsi vasútállomáson a 6.47-kor Dombóvárra induló vonatnál. Szentlőrincről a csoport autóbusszal indul tovább Dinnyeberkibe\NTúravezető: Földes Béla (tel.: 30/232-5528)
X-ALT-DESC;FMTTYPE=text/html:<p><span style="color: #000080; font-size: 10pt; font-family: arial, helvetica, sans-serif;"><strong>„Távol a világ zajától” (közös túra a Pécs Városi Természetbarát Bizottsággal)</strong></span><br /><span style="font-size: 10pt; font-family: arial, helvetica, sans-serif;"><strong>Útvonal</strong>: Dinnyeberki - Gyűrűfű - Korpád - Bükkösd</span><br /><span style="font-size: 10pt; font-family: arial, helvetica, sans-serif;"><strong>Táv</strong>: 15 km - szintemelkedés 220 m.</span><br /><span style="font-size: 10pt; font-family: arial, helvetica, sans-serif;"><strong>Találkozás</strong>:&nbsp;</span>a pécsi vasútállomáson a 6.47-kor Dombóvárra induló vonatnál. Szentlőrincről a csoport autóbusszal indul tovább Dinnyeberkibe</p><p><span style="font-size: 10pt; font-family: arial, helvetica, sans-serif;"><strong>Túravezető</strong>: Földes Béla (tel.: 30/232-5528)</span></p>
X-ACCESS:1
X-MODIFIED:20200621T192640Z
X-HITS:1376
X-URL:
X-COLOR:
END:VEVENT
END:VCALENDAR