BEGIN:VCALENDAR
VERSION:2.0
PRODID:DPCALENDAR
CALSCALE:GREGORIAN
X-WR-TIMEZONE:UTC
BEGIN:VEVENT
DTSTART;VALUE=DATE:20190419
DTEND;VALUE=DATE:20190420
UID:3cf293ab11f541bad2e765899527bfe5
SUMMARY:Bazsarózsa Túra
DTSTAMP:20190108T163002Z
DESCRIPTION:Bazsarózsa Túra - „Sándor János Emléktúra"\NA múlt héten a rossz időjárás miatt elmaradt túra pótlása.\NRendező: Szászvári Mocorgók Szabadidő Egyesület (információ: Berki László 30/678-6188)\NRészletek
X-ALT-DESC;FMTTYPE=text/html:<p><span style="font-size: 12pt; color: #000080; font-family: arial, helvetica, sans-serif;"><strong>Bazsarózsa Túra - „Sándor János Emléktúra"</strong></span></p><p>A múlt héten a rossz időjárás miatt elmaradt túra pótlása.</p><p><strong>Rendező:</strong> Szászvári Mocorgók Szabadidő Egyesület (információ: Berki László 30/678-6188)</p><p><span style="font-size: 10pt;"><strong><span style="color: #0000ff;"><a href="https://www.facebook.com/events/408034519746726/?notif_t=event_calendar_create&amp;notif_id=1555513214970740" target="_blank" rel="noopener noreferrer" style="color: #0000ff;">Részletek</a></span></strong></span></p>
X-ACCESS:1
X-MODIFIED:20190417T151803Z
X-HITS:843
X-URL:
X-COLOR:
END:VEVENT
END:VCALENDAR