BEGIN:VCALENDAR
VERSION:2.0
PRODID:DPCALENDAR
CALSCALE:GREGORIAN
X-WR-TIMEZONE:UTC
BEGIN:VEVENT
DTSTART;VALUE=DATE:20191116
DTEND;VALUE=DATE:20191117
UID:f32a51c1599ea19ec0169464e3f192f8
SUMMARY:Skóciai Szent Margit Emléktúra
DTSTAMP:20190109T171756Z
DESCRIPTION:{google_docs}http://baranyatermeszetbarat.hu/images/hirek/pdf/2019_11_16_Skociai_Szt_Margit_meghivo.pdf|width:750|height:600|link:yes|link_label:Letöltés{/google_docs}
X-ALT-DESC;FMTTYPE=text/html:<p>{google_docs}http://baranyatermeszetbarat.hu/images/hirek/pdf/2019_11_16_Skociai_Szt_Margit_meghivo.pdf|width:750|height:600|link:yes|link_label:Letöltés{/google_docs}</p>
LOCATION:Mecseknádasd, Baranya, Magyarország
GEO:46.22466000;18.46538550
X-ACCESS:1
X-MODIFIED:20191023T065358Z
X-HITS:1548
X-URL:
X-COLOR:
END:VEVENT
END:VCALENDAR